BEGIN:VCALENDAR
VERSION:2.0
PRODID:-//Aktion Horrem - ECPv6.15.20//NONSGML v1.0//EN
CALSCALE:GREGORIAN
METHOD:PUBLISH
X-WR-CALNAME:Aktion Horrem
X-ORIGINAL-URL:https://aktion-horrem.de
X-WR-CALDESC:Veranstaltungen für Aktion Horrem
REFRESH-INTERVAL;VALUE=DURATION:PT1H
X-Robots-Tag:noindex
X-PUBLISHED-TTL:PT1H
BEGIN:VTIMEZONE
TZID:Europe/Helsinki
BEGIN:DAYLIGHT
TZOFFSETFROM:+0200
TZOFFSETTO:+0300
TZNAME:EEST
DTSTART:20230326T010000
END:DAYLIGHT
BEGIN:STANDARD
TZOFFSETFROM:+0300
TZOFFSETTO:+0200
TZNAME:EET
DTSTART:20231029T010000
END:STANDARD
BEGIN:DAYLIGHT
TZOFFSETFROM:+0200
TZOFFSETTO:+0300
TZNAME:EEST
DTSTART:20240331T010000
END:DAYLIGHT
BEGIN:STANDARD
TZOFFSETFROM:+0300
TZOFFSETTO:+0200
TZNAME:EET
DTSTART:20241027T010000
END:STANDARD
BEGIN:DAYLIGHT
TZOFFSETFROM:+0200
TZOFFSETTO:+0300
TZNAME:EEST
DTSTART:20250330T010000
END:DAYLIGHT
BEGIN:STANDARD
TZOFFSETFROM:+0300
TZOFFSETTO:+0200
TZNAME:EET
DTSTART:20251026T010000
END:STANDARD
BEGIN:DAYLIGHT
TZOFFSETFROM:+0200
TZOFFSETTO:+0300
TZNAME:EEST
DTSTART:20260329T010000
END:DAYLIGHT
BEGIN:STANDARD
TZOFFSETFROM:+0300
TZOFFSETTO:+0200
TZNAME:EET
DTSTART:20261025T010000
END:STANDARD
BEGIN:DAYLIGHT
TZOFFSETFROM:+0200
TZOFFSETTO:+0300
TZNAME:EEST
DTSTART:20270328T010000
END:DAYLIGHT
BEGIN:STANDARD
TZOFFSETFROM:+0300
TZOFFSETTO:+0200
TZNAME:EET
DTSTART:20271031T010000
END:STANDARD
END:VTIMEZONE
BEGIN:VEVENT
DTSTART;TZID=Europe/Helsinki:20260322T130000
DTEND;TZID=Europe/Helsinki:20260322T160000
DTSTAMP:20260424T181804
CREATED:20260308T194945Z
LAST-MODIFIED:20260308T195035Z
UID:3063-1774184400-1774195200@aktion-horrem.de
SUMMARY:Frühjahrs- und Sommer-Basar mit Cafeteria
DESCRIPTION:
URL:https://aktion-horrem.de/event/fruehjahrs-und-sommer-basar-mit-cafeteria
LOCATION:Kita Spielkiste\, Merodestr. 31-37\, Kerpen-Horrem\, NRW\, 50169\, Germany
ATTACH;FMTTYPE=image/jpeg:https://aktion-horrem.de/wp-content/uploads/2026/03/WhatsApp-Image-2026-03-04-at-15.07.35.jpeg
END:VEVENT
BEGIN:VEVENT
DTSTART;VALUE=DATE:20251205
DTEND;VALUE=DATE:20251208
DTSTAMP:20260424T181804
CREATED:20250608T165853Z
LAST-MODIFIED:20250608T165853Z
UID:2676-1764892800-1765151999@aktion-horrem.de
SUMMARY:Weihnachtsmarkt Horrem
DESCRIPTION:https://aktion-horrem.de/weihnachtsmarkt-horrem-2025
URL:https://aktion-horrem.de/event/weihnachtsmarkt-horrem-2025
LOCATION:Marktplatz Kerpen-Horrem\, Friedrich-Ebert-Platz\, Kerpen-Horrem\, 50169
ATTACH;FMTTYPE=image/jpeg:https://aktion-horrem.de/wp-content/uploads/2024/10/Design-ohne-Titel.jpg
ORGANIZER;CN="Aktion Horrem e.V.":MAILTO:info@aktion-horrem.de
END:VEVENT
BEGIN:VEVENT
DTSTART;VALUE=DATE:20251002
DTEND;VALUE=DATE:20251003
DTSTAMP:20260424T181804
CREATED:20250608T170127Z
LAST-MODIFIED:20250608T170127Z
UID:2678-1759363200-1759449599@aktion-horrem.de
SUMMARY:Wirtschaftsforum Horrem
DESCRIPTION:
URL:https://aktion-horrem.de/event/wirtschaftsforum-horrem
LOCATION:Pfarrheim Horrem\, Hauptstraße 217\, Kerpen\, Nordrhein-Westfalen\, 50169\, Deutschland
ATTACH;FMTTYPE=image/png:https://aktion-horrem.de/wp-content/uploads/2024/07/aktion-horrem-1-digital-300x150-1.png
ORGANIZER;CN="Aktion Horrem e.V.":MAILTO:info@aktion-horrem.de
END:VEVENT
BEGIN:VEVENT
DTSTART;TZID=Europe/Helsinki:20250921T130000
DTEND;TZID=Europe/Helsinki:20250921T160000
DTSTAMP:20260424T181804
CREATED:20250822T153040Z
LAST-MODIFIED:20250822T153040Z
UID:2825-1758459600-1758470400@aktion-horrem.de
SUMMARY:Herbst- und Winter-Basar mit Cafeteria
DESCRIPTION:
URL:https://aktion-horrem.de/event/herbst-und-winter-basar-mit-cafeteria
LOCATION:Kita Spielkiste\, Merodestr. 31-37\, Kerpen-Horrem\, NRW\, 50169\, Germany
ATTACH;FMTTYPE=image/jpeg:https://aktion-horrem.de/wp-content/uploads/2025/08/HerbstUndWinterBasar.jpg
END:VEVENT
BEGIN:VEVENT
DTSTART;TZID=Europe/Helsinki:20250907T110000
DTEND;TZID=Europe/Helsinki:20250907T180000
DTSTAMP:20260424T181804
CREATED:20250720T084813Z
LAST-MODIFIED:20250826T170225Z
UID:2749-1757242800-1757268000@aktion-horrem.de
SUMMARY:Herbstfest 2025
DESCRIPTION:Aktion Horrem e.V. plant ein Herbstfest auf dem Gelände des Schützenheimes Kettelerstraße am 7.9.25 ab 11:00. \nDiese Veranstaltung planen wir gemeinsam mit den beiden örtlichen Schützenvereinen und das gibt uns die Chance selbst einen Stand zu betreiben. \nEs wird einen Flohmarkt geben und ihr könnt Euch HIER einen Standplatz sichern. \nDer Standardplatz beträgt 3 Meter (10€) und kann auf Wunsch erweitert (5€ je lfd. Meter) werden. \nEuer Team von Aktion Horrem e.V. \nMehr Infos findet ihr hier: https://aktion-horrem.de/herbstfest
URL:https://aktion-horrem.de/event/herbstfest-2025
LOCATION:Hemmersbacher Schützenbruderschaft von 1875 e.V.\, Kettelerstraße 22\, Kerpen-Horren\, 50169\, Germany
ATTACH;FMTTYPE=image/jpeg:https://aktion-horrem.de/wp-content/uploads/2025/07/A4_2025_plakat-scaled.jpg
ORGANIZER;CN="Aktion Horrem e.V.":MAILTO:info@aktion-horrem.de
END:VEVENT
BEGIN:VEVENT
DTSTART;TZID=Europe/Helsinki:20250904T150000
DTEND;TZID=Europe/Helsinki:20250904T220000
DTSTAMP:20260424T181804
CREATED:20250608T165336Z
LAST-MODIFIED:20250608T172547Z
UID:2672-1756998000-1757023200@aktion-horrem.de
SUMMARY:Schlemmer- Und Abendmarkt
DESCRIPTION:
URL:https://aktion-horrem.de/event/schlemmer-und-abendmarkt-5
LOCATION:Marktplatz Kerpen-Horrem\, Friedrich-Ebert-Platz\, Kerpen-Horrem\, 50169
CATEGORIES:Schlemmer- und Abendmarkt
ATTACH;FMTTYPE=image/png:https://aktion-horrem.de/wp-content/uploads/2025/03/SchlaemmerUndAbendmarkt_Horrem.png
ORGANIZER;CN="Aktion Horrem e.V.":MAILTO:info@aktion-horrem.de
END:VEVENT
BEGIN:VEVENT
DTSTART;TZID=Europe/Helsinki:20250807T150000
DTEND;TZID=Europe/Helsinki:20250807T220000
DTSTAMP:20260424T181804
CREATED:20250608T165237Z
LAST-MODIFIED:20250608T173154Z
UID:2669-1754578800-1754604000@aktion-horrem.de
SUMMARY:Schlemmer- Und Abendmarkt
DESCRIPTION:
URL:https://aktion-horrem.de/event/schlemmer-und-abendmarkt-4
LOCATION:Marktplatz Kerpen-Horrem\, Friedrich-Ebert-Platz\, Kerpen-Horrem\, 50169
CATEGORIES:Schlemmer- und Abendmarkt
ATTACH;FMTTYPE=image/png:https://aktion-horrem.de/wp-content/uploads/2025/03/SchlaemmerUndAbendmarkt_Horrem.png
ORGANIZER;CN="Aktion Horrem e.V.":MAILTO:info@aktion-horrem.de
END:VEVENT
BEGIN:VEVENT
DTSTART;TZID=Europe/Helsinki:20250703T150000
DTEND;TZID=Europe/Helsinki:20250703T220000
DTSTAMP:20260424T181804
CREATED:20250608T165134Z
LAST-MODIFIED:20250608T172602Z
UID:2666-1751554800-1751580000@aktion-horrem.de
SUMMARY:Schlemmer- Und Abendmarkt
DESCRIPTION:
URL:https://aktion-horrem.de/event/schlemmer-und-abendmarkt-3
LOCATION:Marktplatz Kerpen-Horrem\, Friedrich-Ebert-Platz\, Kerpen-Horrem\, 50169
CATEGORIES:Schlemmer- und Abendmarkt
ATTACH;FMTTYPE=image/png:https://aktion-horrem.de/wp-content/uploads/2025/03/SchlaemmerUndAbendmarkt_Horrem.png
ORGANIZER;CN="Aktion Horrem e.V.":MAILTO:info@aktion-horrem.de
END:VEVENT
BEGIN:VEVENT
DTSTART;TZID=Europe/Helsinki:20250501T120000
DTEND;TZID=Europe/Helsinki:20250501T220000
DTSTAMP:20260424T181804
CREATED:20250605T120438Z
LAST-MODIFIED:20250608T172607Z
UID:2448-1746100800-1746136800@aktion-horrem.de
SUMMARY:Schlemmer- und Abendmarkt
DESCRIPTION:
URL:https://aktion-horrem.de/event/schlemmer-und-abendmarkt-2
LOCATION:NRW
CATEGORIES:Schlemmer- und Abendmarkt
ORGANIZER;CN="Aktion Horrem e.V.":MAILTO:info@aktion-horrem.de
END:VEVENT
BEGIN:VEVENT
DTSTART;TZID=Europe/Helsinki:20250427T100000
DTEND;TZID=Europe/Helsinki:20250427T150000
DTSTAMP:20260424T181804
CREATED:20240829T083909Z
LAST-MODIFIED:20240829T084644Z
UID:1927-1745748000-1745766000@aktion-horrem.de
SUMMARY:Pflanzenflohmarkt
DESCRIPTION:
URL:https://aktion-horrem.de/event/pflanzenflohmarkt
LOCATION:Marktplatz Kerpen-Horrem\, Friedrich-Ebert-Platz\, Kerpen-Horrem\, 50169
ATTACH;FMTTYPE=image/png:https://aktion-horrem.de/wp-content/uploads/2022/03/kreise-Schrift-geschwungen.png
ORGANIZER;CN="Gartenbauverein Horrem":MAILTO:info@gbv-horrem.de
END:VEVENT
BEGIN:VEVENT
DTSTART;TZID=Europe/Helsinki:20250406T130000
DTEND;TZID=Europe/Helsinki:20250406T160000
DTSTAMP:20260424T181804
CREATED:20250326T203529Z
LAST-MODIFIED:20250326T203529Z
UID:2556-1743944400-1743955200@aktion-horrem.de
SUMMARY:KITA Spielkiste | Frühjahrs- und Sommerbasar
DESCRIPTION:Spielzeuge und Kleidung bis Größe 176
URL:https://aktion-horrem.de/event/kita-spielkiste-fruehjahrs-und-sommerbasar
LOCATION:Kita Spielkiste\, Merodestr. 31-37\, Kerpen-Horrem\, NRW\, 50169\, Germany
END:VEVENT
BEGIN:VEVENT
DTSTART;TZID=Europe/Helsinki:20250403T150000
DTEND;TZID=Europe/Helsinki:20250403T220000
DTSTAMP:20260424T181804
CREATED:20250322T120121Z
LAST-MODIFIED:20250322T120121Z
UID:2443-1743692400-1743717600@aktion-horrem.de
SUMMARY:Schlemmer- und Abendmarkt
DESCRIPTION:
URL:https://aktion-horrem.de/event/schlemmer-und-abendmarkt
LOCATION:Marktplatz Kerpen-Horrem\, Friedrich-Ebert-Platz\, Kerpen-Horrem\, 50169
ORGANIZER;CN="Aktion Horrem e.V.":MAILTO:info@aktion-horrem.de
END:VEVENT
BEGIN:VEVENT
DTSTART;TZID=Europe/Helsinki:20250330T110000
DTEND;TZID=Europe/Helsinki:20250330T110000
DTSTAMP:20260424T181804
CREATED:20250324T071728Z
LAST-MODIFIED:20250324T072450Z
UID:2526-1743332400-1743332400@aktion-horrem.de
SUMMARY:CleanUp
DESCRIPTION:
URL:https://aktion-horrem.de/event/cleanup
LOCATION:Marktplatz Kerpen-Horrem\, Friedrich-Ebert-Platz\, Kerpen-Horrem\, 50169
ORGANIZER;CN="Aktion Horrem e.V.":MAILTO:info@aktion-horrem.de
END:VEVENT
BEGIN:VEVENT
DTSTART;TZID=Europe/Helsinki:20250304T183000
DTEND;TZID=Europe/Helsinki:20250304T220000
DTSTAMP:20260424T181804
CREATED:20240829T083449Z
LAST-MODIFIED:20240829T084746Z
UID:1925-1741113000-1741125600@aktion-horrem.de
SUMMARY:Nubbelverbrennung
DESCRIPTION:
URL:https://aktion-horrem.de/event/nubbelverbrennung
LOCATION:Soziokulturelles Zentrum Horrem\, Mittelstraße 23 - 31\, Kerpen-Horrem\, Nordrhein-Westfalen\, 50169\, Deutschland
ATTACH;FMTTYPE=image/png:https://aktion-horrem.de/wp-content/uploads/2022/04/Karneval-horrem.png
ORGANIZER;CN="Festausschuss Horremer Karneval":MAILTO:info@fa-horrem.de
END:VEVENT
BEGIN:VEVENT
DTSTART;TZID=Europe/Helsinki:20250303T150000
DTEND;TZID=Europe/Helsinki:20250303T233000
DTSTAMP:20260424T181804
CREATED:20240829T083354Z
LAST-MODIFIED:20240829T084903Z
UID:1923-1741014000-1741044600@aktion-horrem.de
SUMMARY:Rosenmontagstreiben
DESCRIPTION:
URL:https://aktion-horrem.de/event/rosenmontagstreiben
LOCATION:Marktplatz Kerpen-Horrem\, Friedrich-Ebert-Platz\, Kerpen-Horrem\, 50169
ATTACH;FMTTYPE=image/png:https://aktion-horrem.de/wp-content/uploads/2022/04/Karneval-horrem.png
ORGANIZER;CN="Festausschuss Horremer Karneval":MAILTO:info@fa-horrem.de
END:VEVENT
BEGIN:VEVENT
DTSTART;TZID=Europe/Helsinki:20250303T130000
DTEND;TZID=Europe/Helsinki:20250303T170000
DTSTAMP:20260424T181804
CREATED:20240829T083137Z
LAST-MODIFIED:20240829T084939Z
UID:1920-1741006800-1741021200@aktion-horrem.de
SUMMARY:Rosenmontagszug
DESCRIPTION:Zugweg: \nAufstellung: Hauptstraße\, Horrem Nord\nHauptstraße\nMerodestraße\nAm Stadion\nRubenstraße\nHemmersbacher Straße\nBoisdorfer Straße\nHauptstraße\nFontänestraße\nAuflösung: Mittelstraße / Mühlengraben
URL:https://aktion-horrem.de/event/rosenmontagszug
LOCATION:NRW
ATTACH;FMTTYPE=image/png:https://aktion-horrem.de/wp-content/uploads/2022/04/Karneval-horrem.png
ORGANIZER;CN="Festausschuss Horremer Karneval":MAILTO:info@fa-horrem.de
END:VEVENT
BEGIN:VEVENT
DTSTART;TZID=Europe/Helsinki:20250301T193000
DTEND;TZID=Europe/Helsinki:20250301T223000
DTSTAMP:20260424T181804
CREATED:20240829T082741Z
LAST-MODIFIED:20240829T085028Z
UID:1917-1740857400-1740868200@aktion-horrem.de
SUMMARY:Jeck in Horrem
DESCRIPTION:Einlass nach Rückkehr der Geisterzugteilnehmer
URL:https://aktion-horrem.de/event/jeck-in-horrem
LOCATION:Marktplatz Kerpen-Horrem\, Friedrich-Ebert-Platz\, Kerpen-Horrem\, 50169
ATTACH;FMTTYPE=image/png:https://aktion-horrem.de/wp-content/uploads/2022/04/Karneval-horrem.png
ORGANIZER;CN="Festausschuss Horremer Karneval":MAILTO:info@fa-horrem.de
END:VEVENT
BEGIN:VEVENT
DTSTART;TZID=Europe/Helsinki:20250301T183000
DTEND;TZID=Europe/Helsinki:20250301T193000
DTSTAMP:20260424T181804
CREATED:20240829T082302Z
LAST-MODIFIED:20240829T085052Z
UID:1913-1740853800-1740857400@aktion-horrem.de
SUMMARY:Horremer Geisterzug
DESCRIPTION:Zugweg: \nAufstellung: Hauptstraße / Friedrich-Ebert-Platz\nHauptstraße\nBahnhofstraße\nMittelstraße\nFontänestraße\nMerodestraße\nSistenichstraße\nAn der Malzmühle\nAuflösung: Friedrich-Ebert-Platz
URL:https://aktion-horrem.de/event/horremer-geisterzug
LOCATION:Marktplatz Kerpen-Horrem\, Friedrich-Ebert-Platz\, Kerpen-Horrem\, 50169
ATTACH;FMTTYPE=image/png:https://aktion-horrem.de/wp-content/uploads/2022/04/Karneval-horrem.png
ORGANIZER;CN="Festausschuss Horremer Karneval":MAILTO:info@fa-horrem.de
END:VEVENT
BEGIN:VEVENT
DTSTART;TZID=Europe/Helsinki:20250228T183000
DTEND;TZID=Europe/Helsinki:20250228T233000
DTSTAMP:20260424T181804
CREATED:20240829T082156Z
LAST-MODIFIED:20240829T085143Z
UID:1911-1740767400-1740785400@aktion-horrem.de
SUMMARY:Horremer Puppensitzung "Voll vun Energie"
DESCRIPTION:
URL:https://aktion-horrem.de/event/horremer-puppensitzung-voll-vun-energie
LOCATION:Soziokulturelles Zentrum Horrem\, Mittelstraße 23 - 31\, Kerpen-Horrem\, Nordrhein-Westfalen\, 50169\, Deutschland
ATTACH;FMTTYPE=image/png:https://aktion-horrem.de/wp-content/uploads/2023/03/Horremer-Puppensitzung.png
ORGANIZER;CN="KG Flotte Horremer":MAILTO:flottehorremer@gmail.com
END:VEVENT
BEGIN:VEVENT
DTSTART;TZID=Europe/Helsinki:20250227T130000
DTEND;TZID=Europe/Helsinki:20250227T233000
DTSTAMP:20260424T181804
CREATED:20240829T082029Z
LAST-MODIFIED:20240829T085203Z
UID:1909-1740661200-1740699000@aktion-horrem.de
SUMMARY:Weiberfastnachtstreiben
DESCRIPTION:
URL:https://aktion-horrem.de/event/weiberfastnachtstreiben
LOCATION:Marktplatz Kerpen-Horrem\, Friedrich-Ebert-Platz\, Kerpen-Horrem\, 50169
ATTACH;FMTTYPE=image/png:https://aktion-horrem.de/wp-content/uploads/2022/04/Karneval-horrem.png
ORGANIZER;CN="Festausschuss Horremer Karneval":MAILTO:info@fa-horrem.de
END:VEVENT
BEGIN:VEVENT
DTSTART;TZID=Europe/Helsinki:20250223T111100
DTEND;TZID=Europe/Helsinki:20250223T220000
DTSTAMP:20260424T181804
CREATED:20240829T081909Z
LAST-MODIFIED:20240829T085238Z
UID:1907-1740309060-1740348000@aktion-horrem.de
SUMMARY:Blauer Sonntag
DESCRIPTION:
URL:https://aktion-horrem.de/event/blauer-sonntag
LOCATION:Marktplatz Kerpen-Horrem\, Friedrich-Ebert-Platz\, Kerpen-Horrem\, 50169
ATTACH;FMTTYPE=image/png:https://aktion-horrem.de/wp-content/uploads/2022/04/Karneval-horrem.png
END:VEVENT
BEGIN:VEVENT
DTSTART;TZID=Europe/Helsinki:20250222T130000
DTEND;TZID=Europe/Helsinki:20250222T190000
DTSTAMP:20260424T181804
CREATED:20240829T081801Z
LAST-MODIFIED:20240829T085258Z
UID:1905-1740229200-1740250800@aktion-horrem.de
SUMMARY:Kindersitzung
DESCRIPTION:
URL:https://aktion-horrem.de/event/kindersitzung
LOCATION:Marktplatz Kerpen-Horrem\, Friedrich-Ebert-Platz\, Kerpen-Horrem\, 50169
ATTACH;FMTTYPE=image/png:https://aktion-horrem.de/wp-content/uploads/2022/04/Karneval-horrem.png
ORGANIZER;CN="Festausschuss Horremer Karneval":MAILTO:info@fa-horrem.de
END:VEVENT
BEGIN:VEVENT
DTSTART;TZID=Europe/Helsinki:20250118T133000
DTEND;TZID=Europe/Helsinki:20250118T220000
DTSTAMP:20260424T181804
CREATED:20240829T081638Z
LAST-MODIFIED:20240829T085321Z
UID:1903-1737207000-1737237600@aktion-horrem.de
SUMMARY:Veedelssitzung
DESCRIPTION:
URL:https://aktion-horrem.de/event/veedelssitzung
LOCATION:Horremer Halle\, Mittelstraße 17-19\, Kerpen\, Nordrhein-Westfalen\, 50169\, Deutschland
ATTACH;FMTTYPE=image/png:https://aktion-horrem.de/wp-content/uploads/2022/04/Karneval-horrem.png
END:VEVENT
BEGIN:VEVENT
DTSTART;TZID=Europe/Helsinki:20250112T110000
DTEND;TZID=Europe/Helsinki:20250112T140000
DTSTAMP:20260424T181804
CREATED:20240829T081437Z
LAST-MODIFIED:20240829T085355Z
UID:1900-1736679600-1736690400@aktion-horrem.de
SUMMARY:Nubbelauferstehung
DESCRIPTION:
URL:https://aktion-horrem.de/event/nubbelauferstehung
LOCATION:Brauhaus Horrem\, Mittelstraße 40\, Kerpen\, Nordrhein-Westfalen\, 50169\, Deutschland
ATTACH;FMTTYPE=image/png:https://aktion-horrem.de/wp-content/uploads/2022/04/Karneval-horrem.png
ORGANIZER;CN="Festausschuss Horremer Karneval":MAILTO:info@fa-horrem.de
END:VEVENT
BEGIN:VEVENT
DTSTART;TZID=Europe/Helsinki:20250112T103000
DTEND;TZID=Europe/Helsinki:20250112T110000
DTSTAMP:20260424T181804
CREATED:20240829T081201Z
LAST-MODIFIED:20240829T085413Z
UID:1897-1736677800-1736679600@aktion-horrem.de
SUMMARY:Kranzniederlegung
DESCRIPTION:
URL:https://aktion-horrem.de/event/kranzniederlegung
LOCATION:Marktplatz Kerpen-Horrem\, Friedrich-Ebert-Platz\, Kerpen-Horrem\, 50169
ATTACH;FMTTYPE=image/png:https://aktion-horrem.de/wp-content/uploads/2022/04/Karneval-horrem.png
ORGANIZER;CN="Festausschuss Horremer Karneval":MAILTO:info@fa-horrem.de
END:VEVENT
BEGIN:VEVENT
DTSTART;TZID=Europe/Helsinki:20250112T094500
DTEND;TZID=Europe/Helsinki:20250112T103000
DTSTAMP:20260424T181804
CREATED:20240829T080954Z
LAST-MODIFIED:20240829T085443Z
UID:1894-1736675100-1736677800@aktion-horrem.de
SUMMARY:Kölsche Messe
DESCRIPTION:
URL:https://aktion-horrem.de/event/koelsche-messe
LOCATION:Christus König Kirche\, Hauptstraße\, Kerpen\, Nordrhein-Westfalen\, 50169\, Deutschland
ATTACH;FMTTYPE=image/png:https://aktion-horrem.de/wp-content/uploads/2022/04/Karneval-horrem.png
ORGANIZER;CN="Festausschuss Horremer Karneval":MAILTO:info@fa-horrem.de
END:VEVENT
BEGIN:VEVENT
DTSTART;TZID=Europe/Helsinki:20250104T173000
DTEND;TZID=Europe/Helsinki:20250104T233000
DTSTAMP:20260424T181804
CREATED:20240829T080159Z
LAST-MODIFIED:20240829T080546Z
UID:1890-1736011800-1736033400@aktion-horrem.de
SUMMARY:Sitzungsparty
DESCRIPTION:
URL:https://aktion-horrem.de/event/sitzungsparty
LOCATION:Horremer Halle\, Mittelstraße 17-19\, Kerpen\, Nordrhein-Westfalen\, 50169\, Deutschland
ATTACH;FMTTYPE=image/jpeg:https://aktion-horrem.de/wp-content/uploads/2024/08/WhatsApp-Bild-2024-05-01-um-17.35.13_776c75b1.jpg
ORGANIZER;CN="KG Gro%C3%9Fe Horremer":MAILTO:vorstand@grossehorremer.com
END:VEVENT
BEGIN:VEVENT
DTSTART;TZID=Europe/Helsinki:20241215T150000
DTEND;TZID=Europe/Helsinki:20241215T200000
DTSTAMP:20260424T181804
CREATED:20241026T123329Z
LAST-MODIFIED:20241026T123329Z
UID:2168-1734274800-1734292800@aktion-horrem.de
SUMMARY:Weihnachtsmarkt Neubottenbroich (14.12. und 15.12.)
DESCRIPTION:Am Platz an der Heilig Geist Kirche\, Samstag und Sonntag ab 15 Uhr
URL:https://aktion-horrem.de/event/weihnachtsmarkt-neubottenbroich-14-12-und-15-12-2
LOCATION:Pfarrzentrum Neubottenbroich\, Horremerstraße 34a\, Kerpen-Neubottenbroich\, 50169
END:VEVENT
BEGIN:VEVENT
DTSTART;TZID=Europe/Helsinki:20241214T150000
DTEND;TZID=Europe/Helsinki:20241214T200000
DTSTAMP:20260424T181804
CREATED:20241026T123243Z
LAST-MODIFIED:20241026T123243Z
UID:2165-1734188400-1734206400@aktion-horrem.de
SUMMARY:Weihnachtsmarkt Neubottenbroich (14.12. und 15.12.)
DESCRIPTION:In Neubottenbroich am Platz an der Heilig Geist Kirche
URL:https://aktion-horrem.de/event/weihnachtsmarkt-neubottenbroich-14-12-und-15-12
LOCATION:Pfarrzentrum Neubottenbroich\, Horremerstraße 34a\, Kerpen-Neubottenbroich\, 50169
END:VEVENT
BEGIN:VEVENT
DTSTART;TZID=Europe/Helsinki:20241210T150000
DTEND;TZID=Europe/Helsinki:20241210T160000
DTSTAMP:20260424T181804
CREATED:20241026T123112Z
LAST-MODIFIED:20241026T123112Z
UID:2162-1733842800-1733846400@aktion-horrem.de
SUMMARY:Vorlese-\, Mal- und Erzählstunde
DESCRIPTION:Ort: kath. öffentl. Bücherei\, Hauptstr. 215\n\n\n15-16 Uhr\, für alle Kinder ab 4 Jahren
URL:https://aktion-horrem.de/event/vorlese-mal-und-erzaehlstunde-4
LOCATION:Katholische\, Öffentliche Bücherrei Horrem\, Haupstraße 215\, Kerpen-Horrem\, 50169
END:VEVENT
END:VCALENDAR