BEGIN:VCALENDAR
VERSION:2.0
PRODID:-//Aktion Horrem - ECPv6.15.20//NONSGML v1.0//EN
CALSCALE:GREGORIAN
METHOD:PUBLISH
X-WR-CALNAME:Aktion Horrem
X-ORIGINAL-URL:https://aktion-horrem.de
X-WR-CALDESC:Veranstaltungen für Aktion Horrem
REFRESH-INTERVAL;VALUE=DURATION:PT1H
X-Robots-Tag:noindex
X-PUBLISHED-TTL:PT1H
BEGIN:VTIMEZONE
TZID:Europe/Helsinki
BEGIN:DAYLIGHT
TZOFFSETFROM:+0200
TZOFFSETTO:+0300
TZNAME:EEST
DTSTART:20250330T010000
END:DAYLIGHT
BEGIN:STANDARD
TZOFFSETFROM:+0300
TZOFFSETTO:+0200
TZNAME:EET
DTSTART:20251026T010000
END:STANDARD
BEGIN:DAYLIGHT
TZOFFSETFROM:+0200
TZOFFSETTO:+0300
TZNAME:EEST
DTSTART:20260329T010000
END:DAYLIGHT
BEGIN:STANDARD
TZOFFSETFROM:+0300
TZOFFSETTO:+0200
TZNAME:EET
DTSTART:20261025T010000
END:STANDARD
BEGIN:DAYLIGHT
TZOFFSETFROM:+0200
TZOFFSETTO:+0300
TZNAME:EEST
DTSTART:20270328T010000
END:DAYLIGHT
BEGIN:STANDARD
TZOFFSETFROM:+0300
TZOFFSETTO:+0200
TZNAME:EET
DTSTART:20271031T010000
END:STANDARD
END:VTIMEZONE
BEGIN:VEVENT
DTSTART;TZID=Europe/Helsinki:20260501T120000
DTEND;TZID=Europe/Helsinki:20260501T220000
DTSTAMP:20260424T183009
CREATED:20260301T205545Z
LAST-MODIFIED:20260301T205545Z
UID:3036-1777636800-1777672800@aktion-horrem.de
SUMMARY:Genussmarkt 01. Mai 2026
DESCRIPTION:Genussmärkte
URL:https://aktion-horrem.de/event/genussmarkt-01-mai-2026
LOCATION:Marktplatz Kerpen-Horrem\, Friedrich-Ebert-Platz\, Kerpen-Horrem\, 50169
ORGANIZER;CN="Aktion Horrem e.V.":MAILTO:info@aktion-horrem.de
END:VEVENT
END:VCALENDAR